BEGIN:VCALENDAR
VERSION:2.0
PRODID:-//Clube Ferroviário de Portugal - ECPv5.1.6//NONSGML v1.0//EN
CALSCALE:GREGORIAN
METHOD:PUBLISH
X-WR-CALNAME:Clube Ferroviário de Portugal
X-ORIGINAL-URL:https://clubeferroviario.pt
X-WR-CALDESC:Events for Clube Ferroviário de Portugal
BEGIN:VTIMEZONE
TZID:UTC
BEGIN:STANDARD
TZOFFSETFROM:+0000
TZOFFSETTO:+0000
TZNAME:UTC
DTSTART:20170101T000000
END:STANDARD
END:VTIMEZONE
BEGIN:VEVENT
DTSTART;TZID=UTC:20170215T220000
DTEND;TZID=UTC:20170215T220000
DTSTAMP:20260426T031937
CREATED:20170213T153235Z
LAST-MODIFIED:20170213T153235Z
UID:1844-1487196000-1487196000@clubeferroviario.pt
SUMMARY:Voleibol Feminino - ORIENTAL - FERROVIÁRIO
DESCRIPTION:
URL:https://clubeferroviario.pt/evento/voleibol-feminino-oriental-ferroviario/
LOCATION:Pavilhão INATEL\, Lisboa\, Portugal
CATEGORIES:Desporto,Evento
END:VEVENT
END:VCALENDAR