BEGIN:VCALENDAR
VERSION:2.0
PRODID:-//Clube Ferroviário de Portugal - ECPv5.1.6//NONSGML v1.0//EN
CALSCALE:GREGORIAN
METHOD:PUBLISH
X-WR-CALNAME:Clube Ferroviário de Portugal
X-ORIGINAL-URL:https://clubeferroviario.pt
X-WR-CALDESC:Events for Clube Ferroviário de Portugal
BEGIN:VTIMEZONE
TZID:UTC
BEGIN:STANDARD
TZOFFSETFROM:+0000
TZOFFSETTO:+0000
TZNAME:UTC
DTSTART:20180101T000000
END:STANDARD
END:VTIMEZONE
BEGIN:VEVENT
DTSTART;TZID=UTC:20180423T214500
DTEND;TZID=UTC:20180423T214500
DTSTAMP:20260425T013138
CREATED:20180319T175749Z
LAST-MODIFIED:20180415T160529Z
UID:3863-1524519900-1524519900@clubeferroviario.pt
SUMMARY:Voleibol Feminino - FERROVIÁRIO – PORTUGAL TELECOM
DESCRIPTION:
URL:https://clubeferroviario.pt/evento/voleibol-feminino-ferroviario-portugal-telecom/
LOCATION:Pavilhão INATEL\, Lisboa\, Portugal
CATEGORIES:Desporto,Evento
ATTACH;FMTTYPE=image/png:https://clubeferroviario.pt/wp-content/uploads/2017/10/Logo_Voleibol_1-Medium.png
END:VEVENT
END:VCALENDAR