BEGIN:VCALENDAR
VERSION:2.0
PRODID:-//Clube Ferroviário de Portugal - ECPv5.1.6//NONSGML v1.0//EN
CALSCALE:GREGORIAN
METHOD:PUBLISH
X-WR-CALNAME:Clube Ferroviário de Portugal
X-ORIGINAL-URL:https://clubeferroviario.pt
X-WR-CALDESC:Events for Clube Ferroviário de Portugal
BEGIN:VTIMEZONE
TZID:UTC
BEGIN:STANDARD
TZOFFSETFROM:+0000
TZOFFSETTO:+0000
TZNAME:UTC
DTSTART:20190101T000000
END:STANDARD
END:VTIMEZONE
BEGIN:VEVENT
DTSTART;TZID=UTC:20190109T200000
DTEND;TZID=UTC:20190109T200000
DTSTAMP:20260425T184629
CREATED:20181130T165117Z
LAST-MODIFIED:20181130T165117Z
UID:4865-1547064000-1547064000@clubeferroviario.pt
SUMMARY:Voleibol Feminino - FERROVIÁRIO – MATA DE BENFICA
DESCRIPTION:
URL:https://clubeferroviario.pt/evento/voleibol-feminino-ferroviario-mata-de-benfica/
CATEGORIES:Desporto,Evento
ATTACH;FMTTYPE=image/png:https://clubeferroviario.pt/wp-content/uploads/2017/10/Logo_Voleibol_1-Medium.png
END:VEVENT
END:VCALENDAR