BEGIN:VCALENDAR
VERSION:2.0
PRODID:-//Clube Ferroviário de Portugal - ECPv5.1.6//NONSGML v1.0//EN
CALSCALE:GREGORIAN
METHOD:PUBLISH
X-WR-CALNAME:Clube Ferroviário de Portugal
X-ORIGINAL-URL:https://clubeferroviario.pt
X-WR-CALDESC:Events for Clube Ferroviário de Portugal
BEGIN:VTIMEZONE
TZID:UTC
BEGIN:STANDARD
TZOFFSETFROM:+0000
TZOFFSETTO:+0000
TZNAME:UTC
DTSTART:20180101T000000
END:STANDARD
END:VTIMEZONE
BEGIN:VEVENT
DTSTART;TZID=UTC:20180403T220000
DTEND;TZID=UTC:20180403T220000
DTSTAMP:20260424T214115
CREATED:20180319T175251Z
LAST-MODIFIED:20180319T175251Z
UID:3854-1522792800-1522792800@clubeferroviario.pt
SUMMARY:Voleibol Feminino - FERROVIÁRIO – BANCO DE PORTUGAL
DESCRIPTION:
URL:https://clubeferroviario.pt/evento/voleibol-feminino-ferroviario-banco-portugal/
LOCATION:Pavilhão INATEL\, Lisboa\, Portugal
CATEGORIES:Desporto,Evento
ATTACH;FMTTYPE=image/png:https://clubeferroviario.pt/wp-content/uploads/2017/10/Logo_Voleibol_1-Medium.png
END:VEVENT
END:VCALENDAR