BEGIN:VCALENDAR
VERSION:2.0
PRODID:-//Clube Ferroviário de Portugal - ECPv5.1.6//NONSGML v1.0//EN
CALSCALE:GREGORIAN
METHOD:PUBLISH
X-WR-CALNAME:Clube Ferroviário de Portugal
X-ORIGINAL-URL:https://clubeferroviario.pt
X-WR-CALDESC:Events for Clube Ferroviário de Portugal
BEGIN:VTIMEZONE
TZID:UTC
BEGIN:STANDARD
TZOFFSETFROM:+0000
TZOFFSETTO:+0000
TZNAME:UTC
DTSTART:20180101T000000
END:STANDARD
END:VTIMEZONE
BEGIN:VEVENT
DTSTART;TZID=UTC:20181126T213000
DTEND;TZID=UTC:20181126T213000
DTSTAMP:20260425T134541
CREATED:20181114T194841Z
LAST-MODIFIED:20181114T194841Z
UID:4848-1543267800-1543267800@clubeferroviario.pt
SUMMARY:Voleibol Feminino - CASQUILHOS – FERROVIÁRIO
DESCRIPTION:
URL:https://clubeferroviario.pt/evento/voleibol-feminino-casquilhos-ferroviario/
LOCATION:Escola D. Luís Mendonça Furtado\, Escola D. Luís Mendonça Furtado\, Barreiro\, Portugal
CATEGORIES:Desporto,Evento
ATTACH;FMTTYPE=image/png:https://clubeferroviario.pt/wp-content/uploads/2017/10/Logo_Voleibol_1-Medium.png
END:VEVENT
END:VCALENDAR