BEGIN:VCALENDAR
VERSION:2.0
PRODID:-//Clube Ferroviário de Portugal - ECPv5.1.6//NONSGML v1.0//EN
CALSCALE:GREGORIAN
METHOD:PUBLISH
X-WR-CALNAME:Clube Ferroviário de Portugal
X-ORIGINAL-URL:https://clubeferroviario.pt
X-WR-CALDESC:Events for Clube Ferroviário de Portugal
BEGIN:VTIMEZONE
TZID:UTC
BEGIN:STANDARD
TZOFFSETFROM:+0000
TZOFFSETTO:+0000
TZNAME:UTC
DTSTART:20170101T000000
END:STANDARD
END:VTIMEZONE
BEGIN:VEVENT
DTSTART;TZID=UTC:20170502T213000
DTEND;TZID=UTC:20170502T213000
DTSTAMP:20260424T102646
CREATED:20170426T083123Z
LAST-MODIFIED:20170426T083123Z
UID:2274-1493760600-1493760600@clubeferroviario.pt
SUMMARY:Voleibol Feminino - Ac. VOLEI de PRAIA -  FERROVIÁRIO
DESCRIPTION:
URL:https://clubeferroviario.pt/evento/voleibol-feminino-ac-volei-praia-ferroviario-2/
LOCATION:Pavilhão Municipal João dos Santos\,\, Setúbal
CATEGORIES:Desporto,Evento
END:VEVENT
END:VCALENDAR