BEGIN:VCALENDAR
VERSION:2.0
PRODID:-//Clube Ferroviário de Portugal - ECPv5.1.6//NONSGML v1.0//EN
CALSCALE:GREGORIAN
METHOD:PUBLISH
X-WR-CALNAME:Clube Ferroviário de Portugal
X-ORIGINAL-URL:https://clubeferroviario.pt
X-WR-CALDESC:Events for Clube Ferroviário de Portugal
BEGIN:VTIMEZONE
TZID:UTC
BEGIN:STANDARD
TZOFFSETFROM:+0000
TZOFFSETTO:+0000
TZNAME:UTC
DTSTART:20170101T000000
END:STANDARD
END:VTIMEZONE
BEGIN:VEVENT
DTSTART;TZID=UTC:20170226T100000
DTEND;TZID=UTC:20170226T170000
DTSTAMP:20260425T184629
CREATED:20170201T191421Z
LAST-MODIFIED:20170201T191421Z
UID:1812-1488103200-1488128400@clubeferroviario.pt
SUMMARY:Montepio Meia Maratona de Cascais / 5 km de Cascais - 10h00h
DESCRIPTION:
URL:https://clubeferroviario.pt/evento/montepio-meia-maratona-cascais-5-km-cascais-10h00h/
CATEGORIES:Desporto,Evento
END:VEVENT
END:VCALENDAR