BEGIN:VCALENDAR
VERSION:2.0
PRODID:-//Clube Ferroviário de Portugal - ECPv5.1.6//NONSGML v1.0//EN
CALSCALE:GREGORIAN
METHOD:PUBLISH
X-WR-CALNAME:Clube Ferroviário de Portugal
X-ORIGINAL-URL:https://clubeferroviario.pt
X-WR-CALDESC:Events for Clube Ferroviário de Portugal
BEGIN:VTIMEZONE
TZID:UTC
BEGIN:STANDARD
TZOFFSETFROM:+0000
TZOFFSETTO:+0000
TZNAME:UTC
DTSTART:20170101T000000
END:STANDARD
END:VTIMEZONE
BEGIN:VEVENT
DTSTART;TZID=UTC:20170617T213000
DTEND;TZID=UTC:20170617T213000
DTSTAMP:20260423T172445
CREATED:20170505T155200Z
LAST-MODIFIED:20170505T155200Z
UID:2420-1497735000-1497735000@clubeferroviario.pt
SUMMARY:Marginal à Noite
DESCRIPTION:Numa distância de 8km\, com partida e chegada na Avenida Marginal\, junto à Praia de Stº Amaro de Oeiras. \nA hora limite para partida do ‘Marginal à Noite’ será às 21:45. Não será garantida a classificação de chip aos participantes que decidam partir\, após esta hora. \nAinda que os valores de inscrição sejam os que se indicam\, estamos a negociar com a CMO preços mais apelativos e que em oportunidade\, em caso de interesse informo! \nInscrições até 17 de maio: com chip: 10€ e sem chip: 8€
URL:https://clubeferroviario.pt/evento/marginal-a-noite/
CATEGORIES:Desporto,Evento
END:VEVENT
END:VCALENDAR