BEGIN:VCALENDAR
VERSION:2.0
PRODID:-//Clube Ferroviário de Portugal - ECPv5.1.6//NONSGML v1.0//EN
CALSCALE:GREGORIAN
METHOD:PUBLISH
X-WR-CALNAME:Clube Ferroviário de Portugal
X-ORIGINAL-URL:https://clubeferroviario.pt
X-WR-CALDESC:Events for Clube Ferroviário de Portugal
BEGIN:VTIMEZONE
TZID:UTC
BEGIN:STANDARD
TZOFFSETFROM:+0000
TZOFFSETTO:+0000
TZNAME:UTC
DTSTART:20170101T000000
END:STANDARD
END:VTIMEZONE
BEGIN:VEVENT
DTSTART;TZID=UTC:20171015T083000
DTEND;TZID=UTC:20171015T083000
DTSTAMP:20260423T083251
CREATED:20170505T162150Z
LAST-MODIFIED:20170505T162150Z
UID:2441-1508056200-1508056200@clubeferroviario.pt
SUMMARY:Maratona de Lisboa
DESCRIPTION:A corrida começa às 8:30 em Cascais\, e tem uma distância de 42.195 metros. Os participantes atravessam a estrada Marginal\, seguem o Rio Tejo até Lisboa\, e terminam no Parque das Nações\, no mesmo local da Mini e Meia Maratona\, que correm na mesma manhã. \nInscrições até 25 de setembro pelo valor de 35€. À semelhança de anos anteriores\, estamos a negociar com o Maratona a oferta de alguns dorsais\, os quais vão certamente reduzir o valor daquelas que tivermos de pagar!
URL:https://clubeferroviario.pt/evento/maratona-de-lisboa/
CATEGORIES:Desporto,Evento
END:VEVENT
END:VCALENDAR