BEGIN:VCALENDAR
VERSION:2.0
PRODID:-//Clube Ferroviário de Portugal - ECPv5.1.6//NONSGML v1.0//EN
CALSCALE:GREGORIAN
METHOD:PUBLISH
X-WR-CALNAME:Clube Ferroviário de Portugal
X-ORIGINAL-URL:https://clubeferroviario.pt
X-WR-CALDESC:Events for Clube Ferroviário de Portugal
BEGIN:VTIMEZONE
TZID:UTC
BEGIN:STANDARD
TZOFFSETFROM:+0000
TZOFFSETTO:+0000
TZNAME:UTC
DTSTART:20170101T000000
END:STANDARD
END:VTIMEZONE
BEGIN:VEVENT
DTSTART;TZID=UTC:20170507T090000
DTEND;TZID=UTC:20170507T090000
DTSTAMP:20260424T090442
CREATED:20170505T154449Z
LAST-MODIFIED:20170505T154449Z
UID:2396-1494147600-1494147600@clubeferroviario.pt
SUMMARY:IV G. P. de Queluz-Belas - Prémio Manuel Faria
DESCRIPTION:
URL:https://clubeferroviario.pt/evento/iv-g-p-queluz-belas-premio-manuel/
CATEGORIES:Desporto,Evento
END:VEVENT
END:VCALENDAR