BEGIN:VCALENDAR
VERSION:2.0
PRODID:-//Clube Ferroviário de Portugal - ECPv5.1.6//NONSGML v1.0//EN
CALSCALE:GREGORIAN
METHOD:PUBLISH
X-WR-CALNAME:Clube Ferroviário de Portugal
X-ORIGINAL-URL:https://clubeferroviario.pt
X-WR-CALDESC:Events for Clube Ferroviário de Portugal
BEGIN:VTIMEZONE
TZID:UTC
BEGIN:STANDARD
TZOFFSETFROM:+0000
TZOFFSETTO:+0000
TZNAME:UTC
DTSTART:20170101T000000
END:STANDARD
END:VTIMEZONE
BEGIN:VEVENT
DTSTART;TZID=UTC:20170618T100000
DTEND;TZID=UTC:20170618T100000
DTSTAMP:20260423T160647
CREATED:20170505T155434Z
LAST-MODIFIED:20170508T102502Z
UID:2423-1497780000-1497780000@clubeferroviario.pt
SUMMARY:Grande Prémio Museu Nacional Ferroviário
DESCRIPTION:A prova principal é constituída por uma corrida com a distância de 10Kms (10.000 metros). Paralelamente realizasse uma caminhada de aproximada 7 km. \nAs inscrições SÃO LIMITADAS. A inscrição de cada atleta\, no 23º Grande Prémio Museu Nacional Ferroviário corresponde o pagamento de sete (7\,00€) euros até dia 2 de junho e de nove (9\,00€) de 3 a 10 de junho. \nÀ inscrição de cada caminheiro na Caminhada\, corresponde o pagamento de três (3\,00€) euros. Participantes com idade inferior a 12 anos\, estarão isentos do pagamento de qualquer valor sem direito a t-shirt
URL:https://clubeferroviario.pt/evento/grande-premio-museu-nacional-ferroviario/
CATEGORIES:Desporto,Evento
END:VEVENT
END:VCALENDAR