BEGIN:VCALENDAR
VERSION:2.0
PRODID:-//Clube Ferroviário de Portugal - ECPv5.1.6//NONSGML v1.0//EN
CALSCALE:GREGORIAN
METHOD:PUBLISH
X-WR-CALNAME:Clube Ferroviário de Portugal
X-ORIGINAL-URL:https://clubeferroviario.pt
X-WR-CALDESC:Events for Clube Ferroviário de Portugal
BEGIN:VTIMEZONE
TZID:UTC
BEGIN:STANDARD
TZOFFSETFROM:+0000
TZOFFSETTO:+0000
TZNAME:UTC
DTSTART:20170101T000000
END:STANDARD
END:VTIMEZONE
BEGIN:VEVENT
DTSTART;TZID=UTC:20170319T103000
DTEND;TZID=UTC:20170319T170000
DTSTAMP:20260425T105531
CREATED:20170201T191622Z
LAST-MODIFIED:20170201T191622Z
UID:1824-1489919400-1489942800@clubeferroviario.pt
SUMMARY:EDP Meia Maratona de Lisboa – 10:30h
DESCRIPTION:
URL:https://clubeferroviario.pt/evento/edp-meia-maratona-lisboa-1030h/
CATEGORIES:Desporto,Evento
END:VEVENT
END:VCALENDAR