BEGIN:VCALENDAR
VERSION:2.0
PRODID:-//Clube Ferroviário de Portugal - ECPv5.1.6//NONSGML v1.0//EN
CALSCALE:GREGORIAN
METHOD:PUBLISH
X-WR-CALNAME:Clube Ferroviário de Portugal
X-ORIGINAL-URL:https://clubeferroviario.pt
X-WR-CALDESC:Events for Clube Ferroviário de Portugal
BEGIN:VTIMEZONE
TZID:UTC
BEGIN:STANDARD
TZOFFSETFROM:+0000
TZOFFSETTO:+0000
TZNAME:UTC
DTSTART:20170101T000000
END:STANDARD
END:VTIMEZONE
BEGIN:VEVENT
DTSTART;TZID=UTC:20170311T100000
DTEND;TZID=UTC:20170311T170000
DTSTAMP:20260425T140011
CREATED:20170201T191523Z
LAST-MODIFIED:20170201T191523Z
UID:1818-1489226400-1489251600@clubeferroviario.pt
SUMMARY:Corta Mato Nacional Ferroviário\, 2º Troféu João Saúde - 10h00h
DESCRIPTION:
URL:https://clubeferroviario.pt/evento/corta-mato-nacional-ferroviario-2o-trofeu-joao-saude-10h00h/
CATEGORIES:Desporto,Evento
END:VEVENT
END:VCALENDAR