BEGIN:VCALENDAR
VERSION:2.0
PRODID:-//Clube Ferroviário de Portugal - ECPv5.1.6//NONSGML v1.0//EN
CALSCALE:GREGORIAN
METHOD:PUBLISH
X-WR-CALNAME:Clube Ferroviário de Portugal
X-ORIGINAL-URL:https://clubeferroviario.pt
X-WR-CALDESC:Events for Clube Ferroviário de Portugal
BEGIN:VTIMEZONE
TZID:UTC
BEGIN:STANDARD
TZOFFSETFROM:+0000
TZOFFSETTO:+0000
TZNAME:UTC
DTSTART:20170101T000000
END:STANDARD
END:VTIMEZONE
BEGIN:VEVENT
DTSTART;TZID=UTC:20170416T093000
DTEND;TZID=UTC:20170416T170000
DTSTAMP:20260424T214054
CREATED:20170201T191958Z
LAST-MODIFIED:20170201T191958Z
UID:1839-1492335000-1492362000@clubeferroviario.pt
SUMMARY:Corrida em Linha (20 km às 09:30h)
DESCRIPTION:
URL:https://clubeferroviario.pt/evento/corrida-linha-20-km-as-0930h/
CATEGORIES:Desporto,Evento
END:VEVENT
END:VCALENDAR