BEGIN:VCALENDAR
VERSION:2.0
PRODID:-//Clube Ferroviário de Portugal - ECPv5.1.6//NONSGML v1.0//EN
CALSCALE:GREGORIAN
METHOD:PUBLISH
X-WR-CALNAME:Clube Ferroviário de Portugal
X-ORIGINAL-URL:https://clubeferroviario.pt
X-WR-CALDESC:Events for Clube Ferroviário de Portugal
BEGIN:VTIMEZONE
TZID:UTC
BEGIN:STANDARD
TZOFFSETFROM:+0000
TZOFFSETTO:+0000
TZNAME:UTC
DTSTART:20170101T000000
END:STANDARD
END:VTIMEZONE
BEGIN:VEVENT
DTSTART;TZID=UTC:20170226T080000
DTEND;TZID=UTC:20170226T170000
DTSTAMP:20260425T214333
CREATED:20170201T191834Z
LAST-MODIFIED:20170201T191834Z
UID:1830-1488096000-1488128400@clubeferroviario.pt
SUMMARY:Corrida das Localidades – Tercena: 8 kms
DESCRIPTION:
URL:https://clubeferroviario.pt/evento/corrida-das-localidades-tercena-8-kms/
CATEGORIES:Desporto,Evento
END:VEVENT
END:VCALENDAR