BEGIN:VCALENDAR
VERSION:2.0
PRODID:-//Clube Ferroviário de Portugal - ECPv5.1.6//NONSGML v1.0//EN
CALSCALE:GREGORIAN
METHOD:PUBLISH
X-WR-CALNAME:Clube Ferroviário de Portugal
X-ORIGINAL-URL:https://clubeferroviario.pt
X-WR-CALDESC:Events for Clube Ferroviário de Portugal
BEGIN:VTIMEZONE
TZID:UTC
BEGIN:STANDARD
TZOFFSETFROM:+0000
TZOFFSETTO:+0000
TZNAME:UTC
DTSTART:20190101T000000
END:STANDARD
END:VTIMEZONE
BEGIN:VEVENT
DTSTART;TZID=UTC:20191117T093000
DTEND;TZID=UTC:20191117T093000
DTSTAMP:20260425T215713
CREATED:20191115T194244Z
LAST-MODIFIED:20191115T194306Z
UID:5281-1573983000-1573983000@clubeferroviario.pt
SUMMARY:Atletismo - 9.ª Corrida da Água
DESCRIPTION:
URL:https://clubeferroviario.pt/evento/atletismo-9-a-corrida-da-agua/
CATEGORIES:Desporto,Evento
ATTACH;FMTTYPE=image/png:https://clubeferroviario.pt/wp-content/uploads/2019/11/image-Medium.png
END:VEVENT
END:VCALENDAR