BEGIN:VCALENDAR
VERSION:2.0
PRODID:-//Clube Ferroviário de Portugal - ECPv5.1.6//NONSGML v1.0//EN
CALSCALE:GREGORIAN
METHOD:PUBLISH
X-WR-CALNAME:Clube Ferroviário de Portugal
X-ORIGINAL-URL:https://clubeferroviario.pt
X-WR-CALDESC:Events for Clube Ferroviário de Portugal
BEGIN:VTIMEZONE
TZID:UTC
BEGIN:STANDARD
TZOFFSETFROM:+0000
TZOFFSETTO:+0000
TZNAME:UTC
DTSTART:20170101T000000
END:STANDARD
END:VTIMEZONE
BEGIN:VEVENT
DTSTART;TZID=UTC:20170501T100000
DTEND;TZID=UTC:20170501T100000
DTSTAMP:20260424T114527
CREATED:20170505T154336Z
LAST-MODIFIED:20170505T154336Z
UID:2393-1493632800-1493632800@clubeferroviario.pt
SUMMARY:36ª Corrida Internacional 1º de Maio
DESCRIPTION:
URL:https://clubeferroviario.pt/evento/36a-corrida-internacional-1o-maio/
CATEGORIES:Desporto,Evento
END:VEVENT
END:VCALENDAR