BEGIN:VCALENDAR
VERSION:2.0
PRODID:-//Clube Ferroviário de Portugal - ECPv5.1.6//NONSGML v1.0//EN
CALSCALE:GREGORIAN
METHOD:PUBLISH
X-WR-CALNAME:Clube Ferroviário de Portugal
X-ORIGINAL-URL:https://clubeferroviario.pt
X-WR-CALDESC:Events for Clube Ferroviário de Portugal
BEGIN:VTIMEZONE
TZID:UTC
BEGIN:STANDARD
TZOFFSETFROM:+0000
TZOFFSETTO:+0000
TZNAME:UTC
DTSTART:20170101T000000
END:STANDARD
END:VTIMEZONE
BEGIN:VEVENT
DTSTART;TZID=UTC:20170521T100000
DTEND;TZID=UTC:20170521T100000
DTSTAMP:20260424T031655
CREATED:20170505T154712Z
LAST-MODIFIED:20170505T154712Z
UID:2405-1495360800-1495360800@clubeferroviario.pt
SUMMARY:3.ª Corrida Cidade de Alverca
DESCRIPTION:A Associação Portugal Talentus\, com o apoio do Instituto Português do Desporto e Juventude\, da Câmara Municipal de Vila Franca de Xira\, Junta de Freguesia de Alverca do Ribatejo e Sobralinho\, promove a realização da 3ª CORRIDA CIDADE DE ALVERCA\, no dia 21 de maio de 2017. \nInsc. até 13.05.2017: 15.00€.
URL:https://clubeferroviario.pt/evento/3-corrida-cidade-alverca/
CATEGORIES:Desporto,Evento
END:VEVENT
END:VCALENDAR