BEGIN:VCALENDAR
VERSION:2.0
PRODID:-//Clube Ferroviário de Portugal - ECPv5.1.6//NONSGML v1.0//EN
CALSCALE:GREGORIAN
METHOD:PUBLISH
X-WR-CALNAME:Clube Ferroviário de Portugal
X-ORIGINAL-URL:https://clubeferroviario.pt
X-WR-CALDESC:Events for Clube Ferroviário de Portugal
BEGIN:VTIMEZONE
TZID:UTC
BEGIN:STANDARD
TZOFFSETFROM:+0000
TZOFFSETTO:+0000
TZNAME:UTC
DTSTART:20170101T000000
END:STANDARD
END:VTIMEZONE
BEGIN:VEVENT
DTSTART;TZID=UTC:20170521T103000
DTEND;TZID=UTC:20170521T103000
DTSTAMP:20260424T013623
CREATED:20170505T154824Z
LAST-MODIFIED:20170505T154824Z
UID:2408-1495362600-1495362600@clubeferroviario.pt
SUMMARY:12.ª Corrida da Mulher EDP Lisboa a Mulher e a Vida
DESCRIPTION:A Corrida da Mulher “EDP Lisboa a Mulher e a Vida”\, entre Santos e Belém (5 km)\, antes de ser uma prova de atletismo\, é um ato de cidadania\, na recolha de fundos para ajudar a combater o cancro da mama! \nNo dia 21 de maio\, apenas as atletas do sexo feminino\, podem participar nesta prova! \nConsiderando que a organização ofereceu ao Clube Ferroviário de Portugal 15 inscrições e que até ao limite vou aceitar as vossas inscrições por ordem de entrada do vosso email. A data limite de inscrição é até às 18h do próximo sábado\, dia 6 de maio. \nAquelas atletas que já não for possível oferecer o dorsal e que se queiram inscrever\, o custo da inscrição é de 15\,00€
URL:https://clubeferroviario.pt/evento/12-corrida-da-mulher-edp-lisboa-mulher-vida/
CATEGORIES:Desporto,Evento
END:VEVENT
END:VCALENDAR